BEGIN:VCALENDAR
VERSION:2.0
PRODID:-//Site de la commune de Doeuil-sur-le-Mignon - ECPv4.5.13//NONSGML v1.0//EN
CALSCALE:GREGORIAN
METHOD:PUBLISH
X-WR-CALNAME:Site de la commune de Doeuil-sur-le-Mignon
X-ORIGINAL-URL:http://www.doeuil-sur-le-mignon.fr
X-WR-CALDESC:Events for Site de la commune de Doeuil-sur-le-Mignon
BEGIN:VEVENT
DTSTART;TZID=Europe/Paris:20260511T080000
DTEND;TZID=Europe/Paris:20260515T170000
DTSTAMP:20260421T125113
CREATED:20260421T092809Z
LAST-MODIFIED:20260421T092857Z
UID:3676-1778486400-1778864400@www.doeuil-sur-le-mignon.fr
SUMMARY:Fermeture du l'agence postale du 11 au 15 mai 2026
DESCRIPTION: \n
URL:http://www.doeuil-sur-le-mignon.fr/evenement/fermeture-du-lagence-postale-du-11-au-15-mai-2026/
LOCATION:Rue du Stade\, Doeuil sur le Mignon\, 17330
ATTACH;FMTTYPE=image/jpeg:http://www.doeuil-sur-le-mignon.fr/wp-content/uploads/2026/04/20260421111607134_0001.jpg
END:VEVENT
END:VCALENDAR